BEGIN:VCALENDAR
VERSION:2.0
PRODID:-//ical.marudot.com//iCal Event Maker
CALSCALE:GREGORIAN
BEGIN:VTIMEZONE
TZID:Australia/Sydney
TZURL:http://tzurl.org/zoneinfo-outlook/Australia/Sydney
X-LIC-LOCATION:Australia/Sydney
BEGIN:STANDARD
TZOFFSETFROM:+1100
TZOFFSETTO:+1000
TZNAME:AEST
DTSTART:19700405T030000
RRULE:FREQ=YEARLY;BYMONTH=4;BYDAY=1SU
END:STANDARD
BEGIN:DAYLIGHT
TZOFFSETFROM:+1000
TZOFFSETTO:+1100
TZNAME:AEDT
DTSTART:19701004T020000
RRULE:FREQ=YEARLY;BYMONTH=10;BYDAY=1SU
END:DAYLIGHT
END:VTIMEZONE
BEGIN:VEVENT
DTSTAMP:20191115T042447Z
UID:20191115T042447Z-96715266@marudot.com
DTSTART;TZID=Australia/Sydney:20191127T100000
DTEND;TZID=Australia/Sydney:20191127T160000
SUMMARY:nabtrade charity trading day
DESCRIPTION:Thanks for adding our event to your calendar.\n \nAll brokerage on 27 November 2019\, will help deliver hay to drought-affected farmers. Support this great cause by trading on the day. The more you trade\, the more nabtrade donates.\n \nTo find out more\, visit nabtrade.com.au/charityday\n\nSincerely\,\nThe nabtrade team\n\n\nP.S. You can also help support the cause by spreading the word to your network on social media – \n‘On 27 November 2019 I’m only trading with nabtrade because all brokerage is being donated to the @burrumbuttockhayrunners to help drought-affected Aussie farmers #nabtradecharityday’
END:VEVENT
END:VCALENDAR
